BEGIN:VCALENDAR
VERSION:2.0
PRODID:Events Booking
BEGIN:VEVENT
UID:69ed920f91b12
SUMMARY:Electrical Board Meeting
DESCRIPTION:
DTSTART:20221214T000000Z
DTSTAMP:20221215T033611Z
ORGANIZER;CN=Putnam County\, New York:MAILTO:pcwebinfo@putnamcountyny.gov
END:VEVENT
END:VCALENDAR