BEGIN:VCALENDAR
VERSION:2.0
PRODID:Events Booking
BEGIN:VEVENT
UID:69ed7c7584c73
SUMMARY:Home Improvement Board Meeting
DESCRIPTION:
DTSTART:20230111T233000Z
DTSTAMP:20230110T184419Z
ORGANIZER;CN=Putnam County\, New York:MAILTO:pcwebinfo@putnamcountyny.gov
END:VEVENT
END:VCALENDAR