BEGIN:VCALENDAR
VERSION:2.0
PRODID:Events Booking
BEGIN:VEVENT
UID:69ed7d9bc34cd
SUMMARY:Home Improvement Board Meeting
DESCRIPTION:
DTSTART:20230208T233000Z
DTSTAMP:20230110T184448Z
ORGANIZER;CN=Putnam County\, New York:MAILTO:pcwebinfo@putnamcountyny.gov
END:VEVENT
END:VCALENDAR