BEGIN:VCALENDAR
VERSION:2.0
PRODID:Events Booking
BEGIN:VEVENT
UID:69ed94f2186f8
SUMMARY:Home Improvement Board Meeting
DESCRIPTION:
DTSTART:20221215T000000Z
DTSTAMP:20221215T033642Z
ORGANIZER;CN=Putnam County\, New York:MAILTO:pcwebinfo@putnamcountyny.gov
END:VEVENT
END:VCALENDAR