BEGIN:VCALENDAR
VERSION:2.0
PRODID:Events Booking
BEGIN:VEVENT
UID:69ed7c8135bc4
SUMMARY:Plumbing Board Meeting- CANCELED
DESCRIPTION:
DTSTART:20230309T233000Z
DTSTAMP:20230110T001153Z
ORGANIZER;CN=Putnam County\, New York:MAILTO:pcwebinfo@putnamcountyny.gov
END:VEVENT
END:VCALENDAR