BEGIN:VCALENDAR
VERSION:2.0
PRODID:Events Booking
BEGIN:VEVENT
UID:69ed94f206df5
SUMMARY:Plumbing Board Meeting
DESCRIPTION:
DTSTART:20221209T000000Z
DTSTAMP:20221215T033705Z
ORGANIZER;CN=Putnam County\, New York:MAILTO:pcwebinfo@putnamcountyny.gov
END:VEVENT
END:VCALENDAR