BEGIN:VCALENDAR
VERSION:2.0
PRODID:Events Booking
BEGIN:VEVENT
UID:69e5883c357c1
SUMMARY:5:00pm - Swearing In Ceremony (Historic Courthouse)
DESCRIPTION:
DTSTART:20241231T220000Z
DTSTAMP:20241116T021820Z
ORGANIZER;CN=Putnam County\, New York:MAILTO:pcwebinfo@putnamcountyny.gov
END:VEVENT
END:VCALENDAR