BEGIN:VCALENDAR
VERSION:2.0
PRODID:Events Booking
BEGIN:VEVENT
UID:69e7181492290
SUMMARY:6:00pm Special Full Mtg. & Audit Mtg. (Room #318)
DESCRIPTION:
DTSTART:20250428T220000Z
DTSTAMP:20250320T183356Z
ORGANIZER;CN=Putnam County\, New York:MAILTO:pcwebinfo@putnamcountyny.gov
END:VEVENT
END:VCALENDAR