BEGIN:VCALENDAR
VERSION:2.0
PRODID:Events Booking
BEGIN:VEVENT
UID:69e8ae8528936
SUMMARY:6:30pm - Personnel Budget Mtg. (Room #318)
DESCRIPTION:
DTSTART:20241015T223000Z
DTSTAMP:20240911T212643Z
ORGANIZER;CN=Putnam County\, New York:MAILTO:pcwebinfo@putnamcountyny.gov
END:VEVENT
END:VCALENDAR