BEGIN:VCALENDAR
VERSION:2.0
PRODID:Events Booking
BEGIN:VEVENT
UID:69e9006459b5a
SUMMARY:7:00pm - Budget and Finance Meeting - Budget Address and Public Hea
 ring on Budget Address (Historic Courthouse)
DESCRIPTION:
DTSTART:20231005T230000Z
DTSTAMP:20230908T225804Z
ORGANIZER;CN=Putnam County\, New York:MAILTO:pcwebinfo@putnamcountyny.gov
END:VEVENT
END:VCALENDAR