BEGIN:VCALENDAR
VERSION:2.0
PRODID:Events Booking
BEGIN:VEVENT
UID:69e6da2e5bc00
SUMMARY:Office Closed - Columbus Day
DESCRIPTION:
DTSTART:20241014T040000Z
DTSTAMP:20231216T023107Z
ORGANIZER;CN=Putnam County\, New York:MAILTO:pcwebinfo@putnamcountyny.gov
END:VEVENT
END:VCALENDAR