BEGIN:VCALENDAR
VERSION:2.0
PRODID:Events Booking
BEGIN:VEVENT
UID:69ed63b73c7fd
SUMMARY:Electrical Board Meeting
DESCRIPTION:
DTSTART:20230321T220000Z
DTSTAMP:20230109T235032Z
ORGANIZER;CN=Putnam County\, New York:MAILTO:pcwebinfo@putnamcountyny.gov
END:VEVENT
END:VCALENDAR