BEGIN:VCALENDAR
VERSION:2.0
PRODID:Events Booking
BEGIN:VEVENT
UID:69ed63dc883e0
SUMMARY:Electrical Board Meeting
DESCRIPTION:
DTSTART:20230221T230000Z
DTSTAMP:20230109T234934Z
ORGANIZER;CN=Putnam County\, New York:MAILTO:pcwebinfo@putnamcountyny.gov
END:VEVENT
END:VCALENDAR