BEGIN:VCALENDAR
VERSION:2.0
PRODID:Events Booking
BEGIN:VEVENT
UID:69ed643fb2438
SUMMARY:Home Improvement Board Meeting
DESCRIPTION:
DTSTART:20230412T223000Z
DTSTAMP:20230110T184517Z
ORGANIZER;CN=Putnam County\, New York:MAILTO:pcwebinfo@putnamcountyny.gov
END:VEVENT
END:VCALENDAR