BEGIN:VCALENDAR
VERSION:2.0
PRODID:Events Booking
BEGIN:VEVENT
UID:69ed64172cf24
SUMMARY:Plumbing Board Meeting
DESCRIPTION:
DTSTART:20230112T233000Z
DTSTAMP:20230110T001100Z
ORGANIZER;CN=Putnam County\, New York:MAILTO:pcwebinfo@putnamcountyny.gov
END:VEVENT
END:VCALENDAR